BEGIN:VCALENDAR
VERSION:2.0
PRODID:-//Healthy Workplace Ireland - ECPv6.15.20//NONSGML v1.0//EN
CALSCALE:GREGORIAN
METHOD:PUBLISH
X-WR-CALNAME:Healthy Workplace Ireland
X-ORIGINAL-URL:https://healthyworkplace.ie
X-WR-CALDESC:Events for Healthy Workplace Ireland
REFRESH-INTERVAL;VALUE=DURATION:PT1H
X-Robots-Tag:noindex
X-PUBLISHED-TTL:PT1H
BEGIN:VTIMEZONE
TZID:Europe/Dublin
BEGIN:STANDARD
TZOFFSETFROM:+0000
TZOFFSETTO:+0100
TZNAME:IST
DTSTART:20220327T010000
END:STANDARD
BEGIN:DAYLIGHT
TZOFFSETFROM:+0100
TZOFFSETTO:+0000
TZNAME:GMT
DTSTART:20221030T010000
END:DAYLIGHT
BEGIN:STANDARD
TZOFFSETFROM:+0000
TZOFFSETTO:+0100
TZNAME:IST
DTSTART:20230326T010000
END:STANDARD
BEGIN:DAYLIGHT
TZOFFSETFROM:+0100
TZOFFSETTO:+0000
TZNAME:GMT
DTSTART:20231029T010000
END:DAYLIGHT
BEGIN:STANDARD
TZOFFSETFROM:+0000
TZOFFSETTO:+0100
TZNAME:IST
DTSTART:20240331T010000
END:STANDARD
BEGIN:DAYLIGHT
TZOFFSETFROM:+0100
TZOFFSETTO:+0000
TZNAME:GMT
DTSTART:20241027T010000
END:DAYLIGHT
END:VTIMEZONE
BEGIN:VEVENT
DTSTART;TZID=Europe/Dublin:20230517T000000
DTEND;TZID=Europe/Dublin:20230517T235959
DTSTAMP:20260421T114631
CREATED:20230403T232225Z
LAST-MODIFIED:20230403T232226Z
UID:2314-1684281600-1684367999@healthyworkplace.ie
SUMMARY:International Day Against Homophobia\, Biphobia and Transphobia
DESCRIPTION:
URL:https://healthyworkplace.ie/event/international-day-against-homophobia-biphobia-and-transphobia/
END:VEVENT
BEGIN:VEVENT
DTSTART;TZID=Europe/Dublin:20230513T000000
DTEND;TZID=Europe/Dublin:20230521T235959
DTSTAMP:20260421T114631
CREATED:20230403T232156Z
LAST-MODIFIED:20230403T232157Z
UID:2312-1683936000-1684713599@healthyworkplace.ie
SUMMARY:National Bike Week
DESCRIPTION:
URL:https://healthyworkplace.ie/event/national-bike-week/
END:VEVENT
BEGIN:VEVENT
DTSTART;TZID=Europe/Dublin:20230512T000000
DTEND;TZID=Europe/Dublin:20230512T235959
DTSTAMP:20260421T114631
CREATED:20230403T232122Z
LAST-MODIFIED:20230403T232123Z
UID:2310-1683849600-1683935999@healthyworkplace.ie
SUMMARY:International Nurses Day
DESCRIPTION:
URL:https://healthyworkplace.ie/event/international-nurses-day/
END:VEVENT
BEGIN:VEVENT
DTSTART;TZID=Europe/Dublin:20230512T000000
DTEND;TZID=Europe/Dublin:20230512T235959
DTSTAMP:20260421T114631
CREATED:20230403T232101Z
LAST-MODIFIED:20230403T232102Z
UID:2308-1683849600-1683935999@healthyworkplace.ie
SUMMARY:World Fibromyalgia Day
DESCRIPTION:https://fmaware.net/awareness-day/
URL:https://healthyworkplace.ie/event/world-fibromyalgia-day/
END:VEVENT
BEGIN:VEVENT
DTSTART;TZID=Europe/Dublin:20230508T000000
DTEND;TZID=Europe/Dublin:20230508T235959
DTSTAMP:20260421T114631
CREATED:20230403T232025Z
LAST-MODIFIED:20230403T232026Z
UID:2306-1683504000-1683590399@healthyworkplace.ie
SUMMARY:World Ovarian Cancer Day
DESCRIPTION:https://worldovariancancercoalition.org/world-ovarian-cancer-day/what-is-wocd/
URL:https://healthyworkplace.ie/event/world-ovarian-cancer-day/
END:VEVENT
BEGIN:VEVENT
DTSTART;TZID=Europe/Dublin:20230503T000000
DTEND;TZID=Europe/Dublin:20230503T235959
DTSTAMP:20260421T114631
CREATED:20230403T231858Z
LAST-MODIFIED:20230403T231914Z
UID:2304-1683072000-1683158399@healthyworkplace.ie
SUMMARY:World Asthma Day 
DESCRIPTION:World Asthma Day 2021
URL:https://healthyworkplace.ie/event/world-asthma-day/
END:VEVENT
BEGIN:VEVENT
DTSTART;TZID=Europe/Dublin:20230501T000000
DTEND;TZID=Europe/Dublin:20230531T235959
DTSTAMP:20260421T114631
CREATED:20230403T231810Z
LAST-MODIFIED:20230403T231810Z
UID:2302-1682899200-1685577599@healthyworkplace.ie
SUMMARY:SunSmart Skin Cancer Prevention Month
DESCRIPTION:https://www.cancer.ie/cancer-information-and-support/cancer-information
URL:https://healthyworkplace.ie/event/sunsmart-skin-cancer-prevention-month/
END:VEVENT
BEGIN:VEVENT
DTSTART;TZID=Europe/Dublin:20230501T000000
DTEND;TZID=Europe/Dublin:20230531T235959
DTSTAMP:20260421T114631
CREATED:20230403T231714Z
LAST-MODIFIED:20230403T231715Z
UID:2300-1682899200-1685577599@healthyworkplace.ie
SUMMARY:EU Diversity Month
DESCRIPTION:https://eudiversity2023.eu/
URL:https://healthyworkplace.ie/event/eu-diversity-month/
END:VEVENT
BEGIN:VEVENT
DTSTART;TZID=Europe/Dublin:20230404T080000
DTEND;TZID=Europe/Dublin:20230404T170000
DTSTAMP:20260421T114631
CREATED:20230403T232534Z
LAST-MODIFIED:20230403T232535Z
UID:2320-1680595200-1680627600@healthyworkplace.ie
SUMMARY:World No Tobacco Day
DESCRIPTION:https://quit.hse.ie/apps/startplan/startplansignup.aspx#!form-Step-1-1
URL:https://healthyworkplace.ie/event/world-no-tobacco-day/
END:VEVENT
BEGIN:VEVENT
DTSTART;TZID=Europe/Dublin:20230401T000000
DTEND;TZID=Europe/Dublin:20230430T235959
DTSTAMP:20260421T114631
CREATED:20230214T184533Z
LAST-MODIFIED:20230214T184536Z
UID:2019-1680307200-1682899199@healthyworkplace.ie
SUMMARY:Bowel Cancer Awareness Month
DESCRIPTION:
URL:https://healthyworkplace.ie/event/bowel-cancer-awareness-month/
END:VEVENT
BEGIN:VEVENT
DTSTART;TZID=Europe/Dublin:20230327T170000
DTEND;TZID=Europe/Dublin:20230327T180000
DTSTAMP:20260421T114631
CREATED:20230214T184451Z
LAST-MODIFIED:20230214T184454Z
UID:2017-1679936400-1679940000@healthyworkplace.ie
SUMMARY:Abstract submission closing date for Annual Health Promotion Conference\, University of Galway
DESCRIPTION:
URL:https://healthyworkplace.ie/event/abstract-submission-closing-date-for-annual-health-promotion-conference-university-of-galway/
END:VEVENT
BEGIN:VEVENT
DTSTART;TZID=Europe/Dublin:20230322T000000
DTEND;TZID=Europe/Dublin:20230322T235959
DTSTAMP:20260421T114631
CREATED:20230214T184122Z
LAST-MODIFIED:20230214T184125Z
UID:2015-1679443200-1679529599@healthyworkplace.ie
SUMMARY:World Water Day
DESCRIPTION:
URL:https://healthyworkplace.ie/event/world-water-day/
END:VEVENT
BEGIN:VEVENT
DTSTART;TZID=Europe/Dublin:20230321T000000
DTEND;TZID=Europe/Dublin:20230321T235959
DTSTAMP:20260421T114631
CREATED:20230214T184049Z
LAST-MODIFIED:20230214T184051Z
UID:2013-1679356800-1679443199@healthyworkplace.ie
SUMMARY:International Day for the Elimination of Racial Discrimination
DESCRIPTION:
URL:https://healthyworkplace.ie/event/international-day-for-the-elimination-of-racial-discrimination/
END:VEVENT
BEGIN:VEVENT
DTSTART;TZID=Europe/Dublin:20230317T000000
DTEND;TZID=Europe/Dublin:20230317T235959
DTSTAMP:20260421T114631
CREATED:20230214T184009Z
LAST-MODIFIED:20230214T184011Z
UID:2011-1679011200-1679097599@healthyworkplace.ie
SUMMARY:World Sleep Day
DESCRIPTION:
URL:https://healthyworkplace.ie/event/world-sleep-day/
END:VEVENT
BEGIN:VEVENT
DTSTART;TZID=Europe/Dublin:20230316T000000
DTEND;TZID=Europe/Dublin:20230324T235959
DTSTAMP:20260421T114631
CREATED:20230214T183938Z
LAST-MODIFIED:20230214T183940Z
UID:2009-1678924800-1679702399@healthyworkplace.ie
SUMMARY:European Action Week Against Racism
DESCRIPTION:
URL:https://healthyworkplace.ie/event/european-action-week-against-racism/
END:VEVENT
BEGIN:VEVENT
DTSTART;TZID=Europe/Dublin:20230313T000000
DTEND;TZID=Europe/Dublin:20230319T235959
DTSTAMP:20260421T114631
CREATED:20230214T183849Z
LAST-MODIFIED:20230214T183851Z
UID:2007-1678665600-1679270399@healthyworkplace.ie
SUMMARY:Nutrition and Hydration Week
DESCRIPTION:
URL:https://healthyworkplace.ie/event/nutrition-and-hydration-week/
END:VEVENT
BEGIN:VEVENT
DTSTART;TZID=Europe/Dublin:20230313T000000
DTEND;TZID=Europe/Dublin:20230319T235959
DTSTAMP:20260421T114631
CREATED:20230214T183807Z
LAST-MODIFIED:20230214T183810Z
UID:2005-1678665600-1679270399@healthyworkplace.ie
SUMMARY:Brain Awareness Week
DESCRIPTION:
URL:https://healthyworkplace.ie/event/brain-awareness-week/
END:VEVENT
BEGIN:VEVENT
DTSTART;TZID=Europe/Dublin:20230309T000000
DTEND;TZID=Europe/Dublin:20230309T235959
DTSTAMP:20260421T114631
CREATED:20230214T183729Z
LAST-MODIFIED:20230214T183732Z
UID:2003-1678320000-1678406399@healthyworkplace.ie
SUMMARY:World Kidney Day
DESCRIPTION:
URL:https://healthyworkplace.ie/event/world-kidney-day/
END:VEVENT
BEGIN:VEVENT
DTSTART;TZID=Europe/Dublin:20230308T000000
DTEND;TZID=Europe/Dublin:20230308T235959
DTSTAMP:20260421T114631
CREATED:20230214T183648Z
LAST-MODIFIED:20230214T183650Z
UID:2001-1678233600-1678319999@healthyworkplace.ie
SUMMARY:International Women's Day
DESCRIPTION:
URL:https://healthyworkplace.ie/event/international-womens-day/
END:VEVENT
BEGIN:VEVENT
DTSTART;TZID=Europe/Dublin:20230306T000000
DTEND;TZID=Europe/Dublin:20230313T235959
DTSTAMP:20260421T114631
CREATED:20230214T183611Z
LAST-MODIFIED:20230214T183614Z
UID:1999-1678060800-1678751999@healthyworkplace.ie
SUMMARY:Ready\, Set\, Cycle
DESCRIPTION:
URL:https://healthyworkplace.ie/event/ready-set-cycle/
END:VEVENT
BEGIN:VEVENT
DTSTART;TZID=Europe/Dublin:20230304T000000
DTEND;TZID=Europe/Dublin:20230304T235959
DTSTAMP:20260421T114631
CREATED:20230214T183528Z
LAST-MODIFIED:20230214T183530Z
UID:1997-1677888000-1677974399@healthyworkplace.ie
SUMMARY:International HPV Awareness Day
DESCRIPTION:
URL:https://healthyworkplace.ie/event/international-hpv-awareness-day/
END:VEVENT
BEGIN:VEVENT
DTSTART;TZID=Europe/Dublin:20230304T000000
DTEND;TZID=Europe/Dublin:20230304T235959
DTSTAMP:20260421T114631
CREATED:20230214T183446Z
LAST-MODIFIED:20230214T183448Z
UID:1995-1677888000-1677974399@healthyworkplace.ie
SUMMARY:Dementia Day
DESCRIPTION:
URL:https://healthyworkplace.ie/event/dementia-day/
END:VEVENT
BEGIN:VEVENT
DTSTART;TZID=Europe/Dublin:20230304T000000
DTEND;TZID=Europe/Dublin:20230304T235959
DTSTAMP:20260421T114631
CREATED:20230214T183405Z
LAST-MODIFIED:20230214T183408Z
UID:1993-1677888000-1677974399@healthyworkplace.ie
SUMMARY:World Obesity Day
DESCRIPTION:
URL:https://healthyworkplace.ie/event/world-obesity-day/
END:VEVENT
BEGIN:VEVENT
DTSTART;TZID=Europe/Dublin:20230227T000000
DTEND;TZID=Europe/Dublin:20230326T235959
DTSTAMP:20260421T114631
CREATED:20230214T183330Z
LAST-MODIFIED:20230214T184820Z
UID:1991-1677456000-1679875199@healthyworkplace.ie
SUMMARY:Marchathon Step Challenge
DESCRIPTION:
URL:https://healthyworkplace.ie/event/marchathon-step-challenge/
END:VEVENT
BEGIN:VEVENT
DTSTART;TZID=Europe/Dublin:20230227T000000
DTEND;TZID=Europe/Dublin:20230303T235959
DTSTAMP:20260421T114631
CREATED:20230214T183232Z
LAST-MODIFIED:20230214T184920Z
UID:1989-1677456000-1677887999@healthyworkplace.ie
SUMMARY:Eating Disorder Awareness Week
DESCRIPTION:
URL:https://healthyworkplace.ie/event/eating-disorder-awareness-week/
END:VEVENT
BEGIN:VEVENT
DTSTART;TZID=Europe/Dublin:20230224T121500
DTEND;TZID=Europe/Dublin:20230224T170000
DTSTAMP:20260421T114631
CREATED:20230214T183030Z
LAST-MODIFIED:20230215T115505Z
UID:1987-1677240900-1677258000@healthyworkplace.ie
SUMMARY:CIPD Workplace Awards
DESCRIPTION:Information sheet with categories and submission dates.
URL:https://healthyworkplace.ie/event/cipd-workplace-awards/
ATTACH;FMTTYPE=image/png:https://healthyworkplace.ie/wp-content/uploads/2023/02/CIPD_main_logo.png
END:VEVENT
BEGIN:VEVENT
DTSTART;TZID=Europe/Dublin:20230222T000000
DTEND;TZID=Europe/Dublin:20230222T235959
DTSTAMP:20260421T114631
CREATED:20230214T182032Z
LAST-MODIFIED:20230214T182038Z
UID:1985-1677024000-1677110399@healthyworkplace.ie
SUMMARY:National No Smoking Day
DESCRIPTION:
URL:https://healthyworkplace.ie/event/national-no-smoking-day/
END:VEVENT
END:VCALENDAR