BEGIN:VCALENDAR
VERSION:2.0
PRODID:-//Healthy Workplace Ireland - ECPv6.15.20//NONSGML v1.0//EN
CALSCALE:GREGORIAN
METHOD:PUBLISH
X-ORIGINAL-URL:https://healthyworkplace.ie/ga/
X-WR-CALDESC:Events for Healthy Workplace Ireland
REFRESH-INTERVAL;VALUE=DURATION:PT1H
X-Robots-Tag:noindex
X-PUBLISHED-TTL:PT1H
BEGIN:VTIMEZONE
TZID:Europe/Dublin
BEGIN:STANDARD
TZOFFSETFROM:+0000
TZOFFSETTO:+0100
TZNAME:IST
DTSTART:20220327T010000
END:STANDARD
BEGIN:DAYLIGHT
TZOFFSETFROM:+0100
TZOFFSETTO:+0000
TZNAME:GMT
DTSTART:20221030T010000
END:DAYLIGHT
BEGIN:STANDARD
TZOFFSETFROM:+0000
TZOFFSETTO:+0100
TZNAME:IST
DTSTART:20230326T010000
END:STANDARD
BEGIN:DAYLIGHT
TZOFFSETFROM:+0100
TZOFFSETTO:+0000
TZNAME:GMT
DTSTART:20231029T010000
END:DAYLIGHT
BEGIN:STANDARD
TZOFFSETFROM:+0000
TZOFFSETTO:+0100
TZNAME:IST
DTSTART:20240331T010000
END:STANDARD
BEGIN:DAYLIGHT
TZOFFSETFROM:+0100
TZOFFSETTO:+0000
TZNAME:GMT
DTSTART:20241027T010000
END:DAYLIGHT
BEGIN:STANDARD
TZOFFSETFROM:+0000
TZOFFSETTO:+0100
TZNAME:IST
DTSTART:20250330T010000
END:STANDARD
BEGIN:DAYLIGHT
TZOFFSETFROM:+0100
TZOFFSETTO:+0000
TZNAME:GMT
DTSTART:20251026T010000
END:DAYLIGHT
END:VTIMEZONE
BEGIN:VEVENT
DTSTART;TZID=Europe/Dublin:20240212T000000
DTEND;TZID=Europe/Dublin:20240212T235959
DTSTAMP:20260421T100640
CREATED:20240131T090654Z
LAST-MODIFIED:20240131T090655Z
UID:3714-1707696000-1707782399@healthyworkplace.ie
SUMMARY:International Epilepsy Day
DESCRIPTION:International Epilepsy Day is an annual awareness-raising initiative organised by the International Bureau for Epilepsy (IBE) and the International League Against Epilepsy (ILAE). \n\n\n\nThis #EpilepsyDay\, we want to improve knowledge levels about epilepsy amongst all sectors of society by asking people with epilepsy and those who care for them to share their Epilepsy Journey. \n\n\n\nHead to the World Epilepsy Day website or Epilepsy Ireland to find about more. \n\n\n\n\nEpilepsy Ireland website\n\n\n\n\n\nWorld Epilepsy Day website
URL:https://healthyworkplace.ie/ga/event/international-epilepsy-day/
ATTACH;FMTTYPE=image/png:https://healthyworkplace.ie/wp-content/uploads/2024/01/About-the-Day-Logo.png
END:VEVENT
BEGIN:VEVENT
DTSTART;TZID=Europe/Dublin:20240204T000000
DTEND;TZID=Europe/Dublin:20240204T235959
DTSTAMP:20260421T100640
CREATED:20240131T085224Z
LAST-MODIFIED:20240131T085405Z
UID:3703-1707004800-1707091199@healthyworkplace.ie
SUMMARY:World Cancer Day
DESCRIPTION:World Cancer Day is an international health awareness day held each year. The day aims to empower individuals and populations to take action to reduce their cancer risk. \n\n\n\nView the World Cancer Day and HSE websites for information about cancer and reducing your risk. \n\n\n\n\nWorld Cancer Day website\n\n\n\n\n\nHSE website
URL:https://healthyworkplace.ie/ga/event/world-cancer-day/
ATTACH;FMTTYPE=image/jpeg:https://healthyworkplace.ie/wp-content/uploads/2024/01/licensed-image.jpeg
END:VEVENT
BEGIN:VEVENT
DTSTART;TZID=Europe/Dublin:20240201T000000
DTEND;TZID=Europe/Dublin:20240228T235959
DTSTAMP:20260421T100640
CREATED:20240131T084248Z
LAST-MODIFIED:20240131T093403Z
UID:3701-1706745600-1709164799@healthyworkplace.ie
SUMMARY:Oesophageal Cancer Awareness Month
DESCRIPTION:Oesophageal cancer is cancer of the food pipe. Almost 520 people are diagnosed with it in Ireland every year. \n\n\n\nOesophageal cancer develops when cells in the oesophagus change and grow in abnormal way. \n\n\n\nUsually the tumour doesn’t cause symptoms at first\, but as it grows it can cause difficulty with swallowing (dysphagia). This is because it narrows the oesophagus and makes food lodge or stick there. After that\, it can be hard to swallow liquids. \n\n\n\nHead to the Irish Cancer Society website to find out more. \n\n\n\n\nIrish Cancer Society website
URL:https://healthyworkplace.ie/ga/event/oesophageal-cancer-awareness-month/
ATTACH;FMTTYPE=image/png:https://healthyworkplace.ie/wp-content/uploads/2024/01/Irish-Cancer-Society-logo.png
END:VEVENT
BEGIN:VEVENT
DTSTART;TZID=Europe/Dublin:20240110T000000
DTEND;TZID=Europe/Dublin:20240228T235959
DTSTAMP:20260421T100640
CREATED:20240108T094824Z
LAST-MODIFIED:20240108T094826Z
UID:3643-1704844800-1709164799@healthyworkplace.ie
SUMMARY:Ireland Lights Up
DESCRIPTION:The GAA’s popular ‘Ireland Lights Up’ initiative returns in January 2024 in partnership with RTE’s Operation Transformation\, Get Ireland Walking and the Irish Life “My Life” app. \n\n\n\n‘Ireland Lights Up’ encourages GAA clubs across the 32 counties to light up and bring communities together to walk and talk in a safe environment during the dark winter evenings. As ever\, a club participating in Ireland Lights Up will be showcased each week on RTE’s Operation Transformation. \n\n\n\nIn 2023\, over 1000 GAA clubs signed up for Ireland Lights Up helping tens of thousands of participants improve their physical\, mental\, and social wellbeing. Clubs also recruited over 29\,600 walkers to participate in the ‘Every Steps Counts Challenge’ delivered through the ‘MyLife’ app\, in partnership with the Irish Life GAA Healthy Clubs programme. Participants walked over 5\,500\,000 kms during the five-week challenge. \n\n\n\nRegistrations for the 2024 ‘Ireland Lights Up’ and ‘Every Step Counts’ MyLife Challenge opens today! Click here to register Ireland Lights Up & Every Step Counts Registration 2024. Ireland Lights Up commences on Wednesday\, January 10th\, to coincide with the broadcast of the second episode of Operation Transformation on RTE. \n\n\n\n\nIreland Lights Up Website
URL:https://healthyworkplace.ie/ga/event/ireland-lights-up/
CATEGORIES:Physical Activity
ATTACH;FMTTYPE=image/webp:https://healthyworkplace.ie/wp-content/uploads/2024/01/Screenshot-2022-12-12-at-14.webp
END:VEVENT
BEGIN:VEVENT
DTSTART;TZID=Europe/Dublin:20240105T000000
DTEND;TZID=Europe/Dublin:20240114T235959
DTSTAMP:20260421T100640
CREATED:20240108T095007Z
LAST-MODIFIED:20240108T095010Z
UID:3636-1704412800-1705276799@healthyworkplace.ie
SUMMARY:First Fortnight Mental Health Art & Culture Festival
DESCRIPTION:Join First Fortnight this January for First Fortnight 2024 with events across art forms including poetry\, music\, textile art\, and theatre. \n\n\n\nFirst Fortnight is a charity that challenges mental health prejudice through arts and cultural action. \n\n\n\n\nFestival Events\n\n\n\nFirst Fortnight Website
URL:https://healthyworkplace.ie/ga/event/first-fortnight-mental-health-art-culture-festival/
CATEGORIES:Mental Health
ATTACH;FMTTYPE=image/jpeg:https://healthyworkplace.ie/wp-content/uploads/2024/01/22f37d51-0119-4b9a-9c3e-527be072414d.jpeg
END:VEVENT
BEGIN:VEVENT
DTSTART;TZID=Europe/Dublin:20231122T110000
DTEND;TZID=Europe/Dublin:20231122T123000
DTSTAMP:20260421T100640
CREATED:20231114T123342Z
LAST-MODIFIED:20231114T123343Z
UID:3583-1700650800-1700656200@healthyworkplace.ie
SUMMARY:HSE Vaping/E-Cigarettes - Get the Facts
DESCRIPTION:You are invited to register for our Vaping/E-cigarettes : Get the Facts webinar\, taking place on November 22nd 11am-12.30 pm    \n\n\n\nThe number of people who vape has increased significantly in Ireland in recent years. Data focused on 16 year olds\, found 1-in-5 were using E-cigarettes in 2019 which is double what it was in 2015. More up-to-date Irish data is due to be published early next year. Based on these recent trends\, we expect this will confirm a further increase in E-cigarette use among children and young people in Ireland. Adults’ usage has increased from just 3% in 2016 to 6% in 2022. \n\n\n\nThis is concerning as the longer-term health effects of vaping are uncertain at this time. During this webinar you will hear from experts about this important and emerging issue. \n\n\n\nGet the Facts on: \n\n\n\n\nTrends in smoking and vaping among adults\, children and young people\n\n\n\nBenefits and Risks of harm caused by vaping \n\n\n\nRegulating to better protect people from the harms of vaping\n\n\n\nThe environmental impact of vaping\n\n\n\nSupport for parents\, guardians and teachers to protect children and young people from the harms of vaping\n\n\n\n\nWe will also hear from young people who vape\, why they started and how difficult it is to stop.  \n\n\n\n\n\n\n\n\n\n\n\n\nHSE Vaping Event
URL:https://healthyworkplace.ie/ga/event/hse-vaping-e-cigarettes-get-the-facts/
CATEGORIES:Mental Health,smoking
ATTACH;FMTTYPE=image/jpeg:https://healthyworkplace.ie/wp-content/uploads/2023/11/thumbnail_image005-1.jpg
END:VEVENT
BEGIN:VEVENT
DTSTART;TZID=Europe/Dublin:20231120T000000
DTEND;TZID=Europe/Dublin:20240131T235959
DTSTAMP:20260421T100640
CREATED:20231120T143500Z
LAST-MODIFIED:20231122T090358Z
UID:3591-1700438400-1706745599@healthyworkplace.ie
SUMMARY:Be Winter-Ready
DESCRIPTION:The main message during the winter months is simple: Be Prepared\, Stay Safe and Know here to find help when you need it. This pamphlet provides the key messages on winter safety from the Government of Ireland’s ‘whole of government’ Be Winter-Ready initiative. More detailed information from Government Departments and Agencies on how to be ready for winter is contained on our website. \n\n\n\n\nGovernment of Ireland website\n\n\n\n\n\nBe Winter-Ready pamphlet
URL:https://healthyworkplace.ie/ga/event/be-winter-ready/
CATEGORIES:Public Campaign
ATTACH;FMTTYPE=image/png:https://healthyworkplace.ie/wp-content/uploads/2023/11/download.png
END:VEVENT
BEGIN:VEVENT
DTSTART;TZID=Europe/Dublin:20231119T000000
DTEND;TZID=Europe/Dublin:20231119T235959
DTSTAMP:20260421T100640
CREATED:20231025T122517Z
LAST-MODIFIED:20231025T122519Z
UID:3539-1700352000-1700438399@healthyworkplace.ie
SUMMARY:International Men's Health Day
DESCRIPTION:International Men’s Day encourages men to teach the boys in their lives the values\, character and responsibilities of being a man. Mahatma Gandhi said\, “We must become the change we seek.” It is only when we all\, both men and women\, lead by example that we will create a fair and safe society that allows everyone the opportunity to prosper. \n\n\n\n\nMen’s Health Forum\n\n\n\nInternational Men’s Day
URL:https://healthyworkplace.ie/ga/event/international-mens-health-day/
ATTACH;FMTTYPE=image/png:https://healthyworkplace.ie/wp-content/uploads/2023/10/IntlMensDay.png
END:VEVENT
BEGIN:VEVENT
DTSTART;TZID=Europe/Dublin:20231116T120000
DTEND;TZID=Europe/Dublin:20231116T131500
DTSTAMP:20260421T100640
CREATED:20231106T180055Z
LAST-MODIFIED:20231106T180220Z
UID:3569-1700136000-1700140500@healthyworkplace.ie
SUMMARY:International Men’s Day Webinar 2023 “Men Making a Difference”
DESCRIPTION:As part of the ongoing series of Men’s Health Webinars from HSE Health and Wellbeing\, they have another coming up celebrating International Men’s Day\, this will be chaired by Lorcan Brennan from the Men’s Development Network and will feature men who became leading voices for health and wellbeing through their advocacy work. Join us to hear their motivation and learning from their work.
URL:https://healthyworkplace.ie/ga/event/international-mens-day-webinar-2023-men-making-a-difference/
ATTACH;FMTTYPE=image/jpeg:https://healthyworkplace.ie/wp-content/uploads/2023/11/menswebinar.jpg
END:VEVENT
BEGIN:VEVENT
DTSTART;TZID=Europe/Dublin:20231101T000000
DTEND;TZID=Europe/Dublin:20231130T235959
DTSTAMP:20260421T100640
CREATED:20231025T121642Z
LAST-MODIFIED:20231025T122602Z
UID:3533-1698796800-1701388799@healthyworkplace.ie
SUMMARY:Movember Prostrate Cancer Awareness Campaign
DESCRIPTION:About 3\,940 men are diagnosed with prostate cancer each year in Ireland. This means that 1 in 7 men will be diagnosed with prostate cancer during their lifetime. \n\n\n\nAlthough prostate cancer is common\, it is very successfully treated for the majority and particularly when detected early. \n\n\n\nProstate cancer can be treated with active surveillance\, external beam radiotherapy\, hormone therapy\, brachytherapy\, surgery\, chemotherapy and watchful waiting. \n\n\n\n\nMarie Keating Foundation\n\n\n\n\n\nIrish Cancer Society
URL:https://healthyworkplace.ie/ga/event/movember-prostrate-cancer-awareness-campaign/
CATEGORIES:Mental Health
ATTACH;FMTTYPE=image/jpeg:https://healthyworkplace.ie/wp-content/uploads/2023/10/19660556451404860276.jpg
END:VEVENT
BEGIN:VEVENT
DTSTART;TZID=Europe/Dublin:20231027T000000
DTEND;TZID=Europe/Dublin:20231027T235959
DTSTAMP:20260421T100640
CREATED:20231027T112341Z
LAST-MODIFIED:20231027T112342Z
UID:3565-1698364800-1698451199@healthyworkplace.ie
SUMMARY:Deadline for CIPD Nominations extended
DESCRIPTION:CIPD has extended the deadline for nominations to Friday 27 October 2023. \n\n\n\nThese prestigious awards are an opportunity for companies and individuals to showcase their best work and valuable contribution to championing better work and working lives.   \n\n\n\nWith stiff competition and their robust judging process\, recipients of our awards are noted as having demonstrated excellence in their field. Each year the categories are reviewed and chosen to reflect current trends at the heart of the work of the people profession.  \n\n\n\nEntrants can read about each of the exciting categories and select the one(s) that best reflect their work and where they can provide evidence of impact. We have a helpful entry pack with details on how to enter and hints and tips from the judges.  \n\n\n\nEach year the volume and standard of entries continues to grow and we very much look forward to celebrating excellence in people management across the country at their wonderful ceremony on 23 February 2024! 
URL:https://healthyworkplace.ie/ga/event/deadline-for-cipd-nominations-extended/
ATTACH;FMTTYPE=image/png:https://healthyworkplace.ie/wp-content/uploads/2023/08/CIPD-HR-Awards.png
END:VEVENT
BEGIN:VEVENT
DTSTART;TZID=Europe/Dublin:20231010T000000
DTEND;TZID=Europe/Dublin:20231010T235959
DTSTAMP:20260421T100640
CREATED:20230929T123103Z
LAST-MODIFIED:20230929T125549Z
UID:3508-1696896000-1696982399@healthyworkplace.ie
SUMMARY:World Mental Health Day
DESCRIPTION:The overall objective of World Mental Health Day is to raise awareness of mental health issues around the world and to mobilise efforts in support of mental health. \n\n\n\nThe Day provides an opportunity for all stakeholders working on mental health issues to talk about their work\, and what more needs to be done to make mental health care a reality for people worldwide. \n\n\n\nThis is a wonderful opportunity for workplaces to engage in the conversation! \n\n\n\n\nHSE\n\n\n\nMental Health Ireland\n\n\n\nAware\n\n\n\nWHO
URL:https://healthyworkplace.ie/ga/event/world-mental-health-day-2023/
CATEGORIES:Mental Health
ATTACH;FMTTYPE=image/png:https://healthyworkplace.ie/wp-content/uploads/2023/09/Screenshot-2023-09-29-at-1.28.44-PM.png
END:VEVENT
BEGIN:VEVENT
DTSTART;TZID=Europe/Dublin:20231002T000000
DTEND;TZID=Europe/Dublin:20231029T235959
DTSTAMP:20260421T100640
CREATED:20230929T121317Z
LAST-MODIFIED:20230929T121318Z
UID:3504-1696204800-1698623999@healthyworkplace.ie
SUMMARY:Walktober Step Challenge
DESCRIPTION:Walktober is a fun team Step Challenge that takes place in October each year. It is open to staff and students of workplaces and third level campuses who are partners of the Smarter Travel programme. \n\n\n\nOnce your organisation has registered to participate in Walktober\, members of staff and students can then get together to form a team of 3-6 people. \n\n\n\nA Team Name is chosen and a Team Captain is nominated. The Team Captain will be the main point of contact for a team and will set up the team on the Active Travel Logger website. \n\n\n\nThe organization’s Internal Coordinator and the National Coordinators keep in touch with participants to let them know about competitions\, prizes\, Leaderboards etc. once the Challenge is live. \n\n\n\nDuring the Step Challenges participants can follow TFI Smarter Travel on social media for regular updates and tips on the Challenge\, and of course to see who’s in the lead! \n\n\n\n \n\n\n\n\nWalktober Step Challenge
URL:https://healthyworkplace.ie/ga/event/walktober-step-challenge/
CATEGORIES:Step Challenge,Physical Activity
ATTACH;FMTTYPE=image/png:https://healthyworkplace.ie/wp-content/uploads/2023/09/Screenshot-2023-09-29-at-1.08.04-PM.png
END:VEVENT
BEGIN:VEVENT
DTSTART;TZID=Europe/Dublin:20231001T000000
DTEND;TZID=Europe/Dublin:20231031T235959
DTSTAMP:20260421T100640
CREATED:20230929T112341Z
LAST-MODIFIED:20230929T125021Z
UID:3495-1696118400-1698796799@healthyworkplace.ie
SUMMARY:Breast Cancer Awareness Month
DESCRIPTION:Each year in Ireland\, almost 3\,400 women and approximately 30 men are diagnosed with breast cancer.  It is more common in women over 50\, but it can affect younger women too. \n\n\n\nBreast screening helps find cancer at an early stage. If it’s found early\, it’s easier to treat and there’s a better chance of recovery. \n\n\n\nThe workplace is an ideal setting to promote awareness of breast cancer and steps we can take to help prevent it. \n\n\n\n\nHSE Breast Screening\n\n\n\nMary Keating Foundation\n\n\n\nIrish Cancer Society
URL:https://healthyworkplace.ie/ga/event/breast-cancer-awareness-month/
ATTACH;FMTTYPE=image/jpeg:https://healthyworkplace.ie/wp-content/uploads/2023/09/PinkRibbon-1024x1024-1.jpg
END:VEVENT
BEGIN:VEVENT
DTSTART;TZID=Europe/Dublin:20230924T000000
DTEND;TZID=Europe/Dublin:20230924T235959
DTSTAMP:20260421T100640
CREATED:20230831T143227Z
LAST-MODIFIED:20230831T143230Z
UID:3473-1695513600-1695599999@healthyworkplace.ie
SUMMARY:National Walking Day
DESCRIPTION:National Walking Day takes place this year on Sunday 24th September as part of EuropeanWeek of Sport. But there are already events starting from Monday the 18th. Check their website for more information. \n\n\n\n#WalkHikeRunPushRoll
URL:https://healthyworkplace.ie/ga/event/national-walking-day/
ATTACH;FMTTYPE=image/jpeg:https://healthyworkplace.ie/wp-content/uploads/2023/08/Get-Ireland-Walking-Header.jpg
END:VEVENT
BEGIN:VEVENT
DTSTART;TZID=Europe/Dublin:20230917T080000
DTEND;TZID=Europe/Dublin:20230917T190000
DTSTAMP:20260421T100640
CREATED:20230831T144010Z
LAST-MODIFIED:20230831T145056Z
UID:3477-1694937600-1694977200@healthyworkplace.ie
SUMMARY:Great Dublin Bike Ride
DESCRIPTION:On Sunday September 17th\, gather your family and friends at Sports Ireland Campus to ride a route of 60km or 100km in distance. Get out and #CycleForCharity for an unforgettable day! \n\n\n\nThe Great Dublin Bike Ride is run as part of European Week of Sport and is supported by Sport Ireland. For information about the event and on how to register\, please check their website below.
URL:https://healthyworkplace.ie/ga/event/great-dublin-bike-ride/
ATTACH;FMTTYPE=image/jpeg:https://healthyworkplace.ie/wp-content/uploads/2023/08/GDBR-Instagram-launch-800.jpg
END:VEVENT
BEGIN:VEVENT
DTSTART;TZID=Europe/Dublin:20230910T000000
DTEND;TZID=Europe/Dublin:20230910T235959
DTSTAMP:20260421T100640
CREATED:20230831T142233Z
LAST-MODIFIED:20230831T142235Z
UID:3469-1694304000-1694390399@healthyworkplace.ie
SUMMARY:World Suicide Prevention Day
DESCRIPTION:The theme of World Suicide Prevention Day (WSPD) for 2023 is Creating Hope through Action. In Ireland\, this is an important theme that is reflected in the national strategy to reduce suicide\, Connecting for Life. \n\n\n\nFor a partner pack\, and to see what actions you can take to help\, visit the HSE site linked to below.
URL:https://healthyworkplace.ie/ga/event/world-suicide-prevention-day/
ATTACH;FMTTYPE=image/png:https://healthyworkplace.ie/wp-content/uploads/2023/08/WSPD_2022_logo_colour_blktext.png
END:VEVENT
BEGIN:VEVENT
DTSTART;TZID=Europe/Dublin:20230901T000000
DTEND;TZID=Europe/Dublin:20230930T235959
DTSTAMP:20260421T100640
CREATED:20230831T141623Z
LAST-MODIFIED:20230831T141625Z
UID:3465-1693526400-1696118399@healthyworkplace.ie
SUMMARY:See Change Green Ribbon Campaign
DESCRIPTION:The annual See Change Green Ribbon campaign aims to spread awareness about all mental health difficulties to help end mental health stigma and discrimination. \n\n\n\nThis year\, they are celebrating 11 years of the Green Ribbon campaign\, which will run across the month of September. Across the month\, See Change will be hosting events\, running social media campaigns and supporting workplaces\, organisations and the general public across Ireland to start having open and honest conversations about mental health.  \n\n\n\nFor more information on specific events\, and to request your green ribbons\, visit the See Change Campaign site linked below.
URL:https://healthyworkplace.ie/ga/event/see-change-green-ribbon-campaign/
ATTACH;FMTTYPE=image/png:https://healthyworkplace.ie/wp-content/uploads/2023/08/10-years-of-Green-Ribbon-logo-1-e1659451011938.png
END:VEVENT
BEGIN:VEVENT
DTSTART;TZID=Europe/Dublin:20230901T000000
DTEND;TZID=Europe/Dublin:20230930T235959
DTSTAMP:20260421T100640
CREATED:20230831T141116Z
LAST-MODIFIED:20230831T141118Z
UID:3461-1693526400-1696118399@healthyworkplace.ie
SUMMARY:Irish Heart Month
DESCRIPTION:This September the Irish Heart Foundation is running the ‘Her Heart Matters’ campaign with support of the HSE and Healthy Ireland\, to increase awareness of the risk of heart disease and stroke in women and the fact that this risk increases as women enter menopause. \n\n\n\nThe Her Heart Matters campaign encourages everyone who has a woman in their life – a sister\, mother\, friend – to talk to them about heart health\, share the message and tips with them and empower them to make small\, sustainable lifestyle changes for the good of their heart health.   \n\n\n\nTheir website has a range of resources to help you protect your heart health
URL:https://healthyworkplace.ie/ga/event/irish-heart-month/
ATTACH;FMTTYPE=image/jpeg:https://healthyworkplace.ie/wp-content/uploads/2023/08/logo_Irish_heart.jpg
END:VEVENT
BEGIN:VEVENT
DTSTART;TZID=Europe/Dublin:20230622T080000
DTEND;TZID=Europe/Dublin:20230622T170000
DTSTAMP:20260421T100640
CREATED:20230214T184705Z
LAST-MODIFIED:20230214T184707Z
UID:2021-1687420800-1687453200@healthyworkplace.ie
SUMMARY:Annual Health Promotion Conference\, University of Galway
DESCRIPTION:
URL:https://healthyworkplace.ie/ga/event/annual-health-promotion-conference-university-of-galway/
END:VEVENT
BEGIN:VEVENT
DTSTART;TZID=Europe/Dublin:20230614T000000
DTEND;TZID=Europe/Dublin:20230614T235959
DTSTAMP:20260421T100640
CREATED:20230403T232703Z
LAST-MODIFIED:20230403T232704Z
UID:2324-1686700800-1686787199@healthyworkplace.ie
SUMMARY:World Blood Donor Day
DESCRIPTION:
URL:https://healthyworkplace.ie/ga/event/world-blood-donor-day/
END:VEVENT
BEGIN:VEVENT
DTSTART;TZID=Europe/Dublin:20230612T000000
DTEND;TZID=Europe/Dublin:20230618T235959
DTSTAMP:20260421T100640
CREATED:20230403T232634Z
LAST-MODIFIED:20230608T161031Z
UID:2322-1686528000-1687132799@healthyworkplace.ie
SUMMARY:Men’s Health Awareness Week
DESCRIPTION:During 2023\, the MHW theme for Ireland will be ‘The Picture of Health’ and the call to men (and those who support the health of men) will be what does that look like to you? \n\n\n\nAll too often we set ourselves unrealistic or impractical targets.  However\, this year\, everyone is being asked to set themselves a simple goal(s) to improve the health of men\, and to go for it! \n\n\n\nFor more info\, please check out: https://www.mhfi.org/mhw/about-mhw.html
URL:https://healthyworkplace.ie/ga/event/mens-health-awareness-week/
END:VEVENT
BEGIN:VEVENT
DTSTART;TZID=Europe/Dublin:20230521T000000
DTEND;TZID=Europe/Dublin:20230521T235959
DTSTAMP:20260421T100640
CREATED:20230403T232421Z
LAST-MODIFIED:20230403T232422Z
UID:2318-1684627200-1684713599@healthyworkplace.ie
SUMMARY:World Day for Cultural Diversity for Dialogue and Development
DESCRIPTION:
URL:https://healthyworkplace.ie/ga/event/world-day-for-cultural-diversity-for-dialogue-and-development/
END:VEVENT
BEGIN:VEVENT
DTSTART;TZID=Europe/Dublin:20230520T000000
DTEND;TZID=Europe/Dublin:20230527T235959
DTSTAMP:20260421T100640
CREATED:20230403T232354Z
LAST-MODIFIED:20230403T232355Z
UID:2316-1684540800-1685231999@healthyworkplace.ie
SUMMARY:Organ Donation Awareness Week
DESCRIPTION:
URL:https://healthyworkplace.ie/ga/event/organ-donation-awareness-week/
END:VEVENT
BEGIN:VEVENT
DTSTART;TZID=Europe/Dublin:20230517T000000
DTEND;TZID=Europe/Dublin:20230517T235959
DTSTAMP:20260421T100640
CREATED:20230403T232225Z
LAST-MODIFIED:20230403T232226Z
UID:2314-1684281600-1684367999@healthyworkplace.ie
SUMMARY:International Day Against Homophobia\, Biphobia and Transphobia
DESCRIPTION:
URL:https://healthyworkplace.ie/ga/event/international-day-against-homophobia-biphobia-and-transphobia/
END:VEVENT
BEGIN:VEVENT
DTSTART;TZID=Europe/Dublin:20230513T000000
DTEND;TZID=Europe/Dublin:20230521T235959
DTSTAMP:20260421T100640
CREATED:20230403T232156Z
LAST-MODIFIED:20230403T232157Z
UID:2312-1683936000-1684713599@healthyworkplace.ie
SUMMARY:National Bike Week
DESCRIPTION:
URL:https://healthyworkplace.ie/ga/event/national-bike-week/
END:VEVENT
BEGIN:VEVENT
DTSTART;TZID=Europe/Dublin:20230512T000000
DTEND;TZID=Europe/Dublin:20230512T235959
DTSTAMP:20260421T100640
CREATED:20230403T232122Z
LAST-MODIFIED:20230403T232123Z
UID:2310-1683849600-1683935999@healthyworkplace.ie
SUMMARY:International Nurses Day
DESCRIPTION:
URL:https://healthyworkplace.ie/ga/event/international-nurses-day/
END:VEVENT
BEGIN:VEVENT
DTSTART;TZID=Europe/Dublin:20230512T000000
DTEND;TZID=Europe/Dublin:20230512T235959
DTSTAMP:20260421T100640
CREATED:20230403T232101Z
LAST-MODIFIED:20230403T232102Z
UID:2308-1683849600-1683935999@healthyworkplace.ie
SUMMARY:World Fibromyalgia Day
DESCRIPTION:https://fmaware.net/awareness-day/
URL:https://healthyworkplace.ie/ga/event/world-fibromyalgia-day/
END:VEVENT
BEGIN:VEVENT
DTSTART;TZID=Europe/Dublin:20230508T000000
DTEND;TZID=Europe/Dublin:20230508T235959
DTSTAMP:20260421T100640
CREATED:20230403T232025Z
LAST-MODIFIED:20230403T232026Z
UID:2306-1683504000-1683590399@healthyworkplace.ie
SUMMARY:World Ovarian Cancer Day
DESCRIPTION:https://worldovariancancercoalition.org/world-ovarian-cancer-day/what-is-wocd/
URL:https://healthyworkplace.ie/ga/event/world-ovarian-cancer-day/
END:VEVENT
BEGIN:VEVENT
DTSTART;TZID=Europe/Dublin:20230503T000000
DTEND;TZID=Europe/Dublin:20230503T235959
DTSTAMP:20260421T100640
CREATED:20230403T231858Z
LAST-MODIFIED:20230403T231914Z
UID:2304-1683072000-1683158399@healthyworkplace.ie
SUMMARY:World Asthma Day 
DESCRIPTION:World Asthma Day 2021
URL:https://healthyworkplace.ie/ga/event/world-asthma-day/
END:VEVENT
END:VCALENDAR