BEGIN:VCALENDAR
VERSION:2.0
PRODID:-//Healthy Workplace Ireland - ECPv6.15.20//NONSGML v1.0//EN
CALSCALE:GREGORIAN
METHOD:PUBLISH
X-WR-CALNAME:Healthy Workplace Ireland
X-ORIGINAL-URL:https://healthyworkplace.ie/ga/
X-WR-CALDESC:Events for Healthy Workplace Ireland
REFRESH-INTERVAL;VALUE=DURATION:PT1H
X-Robots-Tag:noindex
X-PUBLISHED-TTL:PT1H
BEGIN:VTIMEZONE
TZID:Europe/Dublin
BEGIN:STANDARD
TZOFFSETFROM:+0000
TZOFFSETTO:+0100
TZNAME:IST
DTSTART:20240331T010000
END:STANDARD
BEGIN:DAYLIGHT
TZOFFSETFROM:+0100
TZOFFSETTO:+0000
TZNAME:GMT
DTSTART:20241027T010000
END:DAYLIGHT
BEGIN:STANDARD
TZOFFSETFROM:+0000
TZOFFSETTO:+0100
TZNAME:IST
DTSTART:20250330T010000
END:STANDARD
BEGIN:DAYLIGHT
TZOFFSETFROM:+0100
TZOFFSETTO:+0000
TZNAME:GMT
DTSTART:20251026T010000
END:DAYLIGHT
BEGIN:STANDARD
TZOFFSETFROM:+0000
TZOFFSETTO:+0100
TZNAME:IST
DTSTART:20260329T010000
END:STANDARD
BEGIN:DAYLIGHT
TZOFFSETFROM:+0100
TZOFFSETTO:+0000
TZNAME:GMT
DTSTART:20261025T010000
END:DAYLIGHT
END:VTIMEZONE
BEGIN:VEVENT
DTSTART;TZID=Europe/Dublin:20250919T000000
DTEND;TZID=Europe/Dublin:20250919T235959
DTSTAMP:20260420T200255
CREATED:20250521T145526Z
LAST-MODIFIED:20250521T145527Z
UID:4368-1758240000-1758326399@healthyworkplace.ie
SUMMARY:Culture Night
DESCRIPTION:Culture Night is an annual all-Ireland public event that celebrates culture\, creativity and the arts.  \n\n\n\nOn Culture Night\, arts and cultural organisations and venues of all shapes and sizes\, including National Cultural Institutions\, extend their opening hours to allow for increased access to the public.  \n\n\n\nSpecial and unique events and workshops are specifically programmed at participating locations and everything is available free of charge. 
URL:https://healthyworkplace.ie/ga/event/culture-night/
END:VEVENT
BEGIN:VEVENT
DTSTART;TZID=Europe/Dublin:20250917T000000
DTEND;TZID=Europe/Dublin:20250917T235959
DTSTAMP:20260420T200255
CREATED:20250710T101710Z
LAST-MODIFIED:20250710T101712Z
UID:4519-1758067200-1758153599@healthyworkplace.ie
SUMMARY:World Patient Safety Day
DESCRIPTION:17 September is World Patient Safety Day \n\n\n\nWorld Patient Safety Day calls for global solidarity and concerted action by all countries and international partners to improve patient safety. \n\n\n\nThe Day brings together patients\, families\, caregivers\, communities\, health workers\, health care leaders and policy-makers to show their commitment to patient safety. \n\n\n\nThe resolution WHA 72.6 ‘Global action on patient safety’ recognizes patient safety as a global health priority and endorses the establishment of World Patient Safety Day to be observed annually on 17 September.
URL:https://healthyworkplace.ie/ga/event/world-patient-safety-day/
END:VEVENT
BEGIN:VEVENT
DTSTART;TZID=Europe/Dublin:20250915T000000
DTEND;TZID=Europe/Dublin:20250915T235959
DTSTAMP:20260420T200255
CREATED:20250710T101520Z
LAST-MODIFIED:20250710T101521Z
UID:4515-1757894400-1757980799@healthyworkplace.ie
SUMMARY:World Lymphoma Awareness Day
DESCRIPTION:15 September marks World Lymphoma Awareness Day (WLAD)\, and this year\, we are focused on empowering people living with lymphoma and care partners approach tough conversations with greater confidence.   \n\n\n\nBeing diagnosed with lymphoma or CLL can be overwhelming – physically\, emotionally\, personally and professionally. According to the Lymphoma Coalition’s 2024 Global Patient Survey\, 67% of people living with lymphoma reported emotional effects like anxiety\, depression and fear of the cancer coming back or getting worse. Yet many aren’t talking to their healthcare teams or seeking support. 
URL:https://healthyworkplace.ie/ga/event/world-lymphoma-awareness-day/
END:VEVENT
BEGIN:VEVENT
DTSTART;TZID=Europe/Dublin:20250914T080000
DTEND;TZID=Europe/Dublin:20250914T170000
DTSTAMP:20260420T200255
CREATED:20250625T155732Z
LAST-MODIFIED:20250625T155733Z
UID:4478-1757836800-1757869200@healthyworkplace.ie
SUMMARY:World GO Day
DESCRIPTION:World Gynecologic Oncology Day is a worldwide awareness campaign. We raise awareness about prevention and lift the burden of stigma in gynecologic cancers. \n\n\n\nJoin us for the 7th World GO Day on September 20th 2025.
URL:https://healthyworkplace.ie/ga/event/world-go-day/
END:VEVENT
BEGIN:VEVENT
DTSTART;TZID=Europe/Dublin:20250913T080000
DTEND;TZID=Europe/Dublin:20250913T170000
DTSTAMP:20260420T200255
CREATED:20250625T155319Z
LAST-MODIFIED:20250625T155320Z
UID:4474-1757750400-1757782800@healthyworkplace.ie
SUMMARY:World Sepsis Day
DESCRIPTION:World Sepsis Day is celebrated with countless events raising awareness of sepsis in all parts of the world on September 13 every year. There were events for medical professionals\, sports activities\, photo exhibitions\, pink picnics\, gala events\, dinners\, public events such as open days in hospitals and healthcare facilities\, and of course online events and campaigns on Facebook\, Twitter\, Instagram\, Periscope\, Snapchat\, Peach\, and many more social networks.
URL:https://healthyworkplace.ie/ga/event/world-sepsis-day/
END:VEVENT
BEGIN:VEVENT
DTSTART;TZID=Europe/Dublin:20250910T000000
DTEND;TZID=Europe/Dublin:20250910T235959
DTSTAMP:20260420T200255
CREATED:20250509T141609Z
LAST-MODIFIED:20250509T141611Z
UID:4353-1757462400-1757548799@healthyworkplace.ie
SUMMARY:World Suicide Prevention Day
DESCRIPTION:10 September is World Suicide Prevention Day \n\n\n\nWorld Suicide Prevention Day (WSPD) is organized by the International Association for Suicide Prevention (IASP). WHO has been co-sponsor of the day. The purpose of this day is to raise awareness around the globe that suicide can be prevented.
URL:https://healthyworkplace.ie/ga/event/world-suicide-prevention-day-3/
END:VEVENT
BEGIN:VEVENT
DTSTART;TZID=Europe/Dublin:20250909T080000
DTEND;TZID=Europe/Dublin:20250909T170000
DTSTAMP:20260420T200255
CREATED:20250625T155457Z
LAST-MODIFIED:20250625T155458Z
UID:4476-1757404800-1757437200@healthyworkplace.ie
SUMMARY:International FASD Awareness Day
DESCRIPTION:On September 9th each year\, the National Institute on Alcohol Abuse and Alcoholism (NIAAA) recognizes International Fetal Alcohol Spectrum Disorders (FASD) Awareness Day to raise awareness about the lifelong effects of FASD\, and as a reminder that that there is no known safe amount of alcohol consumption during pregnancy.
URL:https://healthyworkplace.ie/ga/event/international-fasd-awareness-day/
END:VEVENT
BEGIN:VEVENT
DTSTART;TZID=Europe/Dublin:20250907T080000
DTEND;TZID=Europe/Dublin:20250913T170000
DTSTAMP:20260420T200255
CREATED:20250625T155044Z
LAST-MODIFIED:20250625T155045Z
UID:4470-1757232000-1757782800@healthyworkplace.ie
SUMMARY:Palliative Care Week
DESCRIPTION:Planning for Palliative Care Week 2025 is well underway. This year\, the campaign will take place from Sunday\, 7 to Saturday\, 13 September and the theme for the campaign is Palliative Care: Living for Today\, Planning for Tomorrow. \n\n\n\nEvery year\, we try to choose a theme that lends itself to sharing those core messages about the benefits of palliative care\, under a strong broad theme. We hope that this will help you and your organisations when planning events and other activities to help to support this year’s campaign. \n\n\n\nPalliative Care Week is a campaign dedicated to raising public awareness and increasing understanding of palliative care and its benefits. Its primary audience includes those who could benefit from palliative care\, health and social care professionals\, the wider public\, and communities across the island of Ireland. \n\n\n\nWhy Palliative Care Week ? \n\n\n\nIt is in line with key palliative care policies across the island of Ireland \n\n\n\nMisunderstanding about palliative care persists\, meaning some people who could benefit are less willing to seek it\, potentially missing out on improved quality of life \n\n\n\nIt comes under the broad understanding of public health approaches to palliative care
URL:https://healthyworkplace.ie/ga/event/palliative-care-week/
END:VEVENT
BEGIN:VEVENT
DTSTART;TZID=Europe/Dublin:20250907T080000
DTEND;TZID=Europe/Dublin:20250907T170000
DTSTAMP:20260420T200255
CREATED:20250625T154552Z
LAST-MODIFIED:20250625T154553Z
UID:4468-1757232000-1757264400@healthyworkplace.ie
SUMMARY:World Duchenne Awareness Day
DESCRIPTION:One in 5000 newborn boys in the world is affected by a rare and fatal disease: Duchenne Muscular Dystrophy (DMD). Seems like a small group\, but the 250.000 patients around the globe think big and have big dreams. Duchenne Parents have set up organizations in their countries\, and all of them work day by day to guarantee access to care\, to improve research\, to educate patients and families. \n\n\n\nSeptember 7 is World Duchenne Awareness Day. On this day we raise awareness for Duchenne and Becker muscular dystrophy around the globe. As every year\, we have a special theme that deserves more attention. \n\n\n\nThe WDAD 2024 theme is ‘Raise your voice for Duchenne’. With this year’s theme\, WDAD supports creating a society that provides equal opportunities for all. This year we organize the 11th edition.
URL:https://healthyworkplace.ie/ga/event/world-duchenne-awareness-day/
END:VEVENT
BEGIN:VEVENT
DTSTART;TZID=Europe/Dublin:20250904T000000
DTEND;TZID=Europe/Dublin:20250911T235959
DTSTAMP:20260420T200255
CREATED:20250509T141432Z
LAST-MODIFIED:20250509T141433Z
UID:4351-1756944000-1757635199@healthyworkplace.ie
SUMMARY:Migraine Awareness Week
DESCRIPTION:The Migraine Association of Ireland is a Patient Orientated Organisation\, Providing Information and Support for People That Suffer with Migraine\, in an Overlooked Environment.
URL:https://healthyworkplace.ie/ga/event/migraine-awareness-week/
END:VEVENT
BEGIN:VEVENT
DTSTART;TZID=Europe/Dublin:20250904T000000
DTEND;TZID=Europe/Dublin:20250904T235959
DTSTAMP:20260420T200255
CREATED:20250509T135658Z
LAST-MODIFIED:20250509T141244Z
UID:4345-1756944000-1757030399@healthyworkplace.ie
SUMMARY:World Sexual Health Day
DESCRIPTION:WHO recognizes every person’s right to sexual well-being. The theme of World Sexual Health Day this year is ‘Consent!’\, recognizing the importance of consent and mutual respect when it comes to sexual encounters. People should have complete and accurate information so they can make informed choices when it comes to their sexual and reproductive health. Read more about WHO’s work to promote sexual well-being.
URL:https://healthyworkplace.ie/ga/event/world-sexual-health-day-2/
END:VEVENT
BEGIN:VEVENT
DTSTART;TZID=Europe/Dublin:20250901T080000
DTEND;TZID=Europe/Dublin:20250930T170000
DTSTAMP:20260420T200255
CREATED:20250625T154431Z
LAST-MODIFIED:20250625T154433Z
UID:4466-1756713600-1759251600@healthyworkplace.ie
SUMMARY:Gynaecological Cancer Awareness Month
DESCRIPTION:September is Gynaecological Cancer Awareness month \n\n\n\nGynaecological cancers are those that affect the female reproductive system and include womb\, ovarian\, cervical\, vulval and vaginal cancers. This September the aim is to provide a better understanding of these cancers and their treatments. If you have been diagnosed with any of these cancer types our Supportline has experienced cancer nurses that can answer your queries in confidence. \n\n\n\nTreatments for gynaecological cancers include surgery\, chemotherapy\, radiotherapy\, hormonal therapy\, targeted therapy and immunotherapy. The treatment you will be offered depends on a number of factors and will be explained to you by your doctor and nurse. \n\n\n\nIt is important to understand why you are being offered this treatment and the possible risks or side effects it may cause. Ask questions if you need anything explained. This information may feel overwhelming so remember support is available for you during this time. Your hospital nurse can help you navigate your treatment options and provide advice on managing possible side effects. \n\n\n\nOne possible effect from gynaecological cancer treatment can be the impact on your sexual relationships. Treatment can affect your sexual wellbeing by causing physical and emotional changes. Our website has some information on specific sexual side effects here. Many women feel embarrassed or uncomfortable discussing this with their medical team but it is important to get the information you need. Your doctor or nurse may not go into detail on these side effects unless they know you would like to discuss it so tell them if you have any queries or concerns. \n\n\n\nIf you would like to speak to a cancer nurse for further information\, advice or support you can call our Supportline on 1800 200 700\, Monday to Friday\, 9am to 5pm. There is also a gynaecological cancer resource called This is GO which is an Irish based personalised online resource for women impacted by Gynaecological Oncology(GO).
URL:https://healthyworkplace.ie/ga/event/gynaecological-cancer-awareness-month/
END:VEVENT
BEGIN:VEVENT
DTSTART;TZID=Europe/Dublin:20250901T080000
DTEND;TZID=Europe/Dublin:20250930T170000
DTSTAMP:20260420T200255
CREATED:20250625T154205Z
LAST-MODIFIED:20250625T154206Z
UID:4464-1756713600-1759251600@healthyworkplace.ie
SUMMARY:Blood Cancer Awareness Month
DESCRIPTION:Blood Cancer Awareness Month is a global event helping to raise awareness of one of the world’s most prevalent and dangerous cancers: blood cancer. \n\n\n\nSeptember turns red each year as the spotlight is put firmly on blood cancer and the impact it has on our communities and the urgent need for more action. \n\n\n\nRaising awareness of blood cancer\, its signs and symptoms and its impact\, will help to improve early diagnosis\, encourage policymakers to prioritise the disease\, as well as help everyone with blood cancer feel connected and heard.
URL:https://healthyworkplace.ie/ga/event/blood-cancer-awareness-month/
END:VEVENT
BEGIN:VEVENT
DTSTART;TZID=Europe/Dublin:20250901T080000
DTEND;TZID=Europe/Dublin:20250930T170000
DTSTAMP:20260420T200255
CREATED:20250625T153907Z
LAST-MODIFIED:20250625T153908Z
UID:4462-1756713600-1759251600@healthyworkplace.ie
SUMMARY:Childhood Cancer Awareness Month
DESCRIPTION:Childhood Cancer Awareness Month \n\n\n\n\n\n\n\nSeptember is Childhood Cancer Awareness month\, a month where around the world people come together to raise awareness of childhood cancer and pay tribute to all those affected. 
URL:https://healthyworkplace.ie/ga/event/childhood-cancer-awareness-month/
END:VEVENT
BEGIN:VEVENT
DTSTART;TZID=Europe/Dublin:20250901T000000
DTEND;TZID=Europe/Dublin:20250930T235959
DTSTAMP:20260420T200255
CREATED:20250509T135446Z
LAST-MODIFIED:20250509T135448Z
UID:4343-1756684800-1759276799@healthyworkplace.ie
SUMMARY:Heart Month
DESCRIPTION:
URL:https://healthyworkplace.ie/ga/event/heart-month/
END:VEVENT
BEGIN:VEVENT
DTSTART;TZID=Europe/Dublin:20250831T080000
DTEND;TZID=Europe/Dublin:20250831T170000
DTSTAMP:20260420T200255
CREATED:20250625T153618Z
LAST-MODIFIED:20250625T153722Z
UID:4458-1756627200-1756659600@healthyworkplace.ie
SUMMARY:International Overdose Awareness Day
DESCRIPTION:Overdose affects everyone. From grieving families to spontaneous first responders\, the impacts of overdose are far-reaching and fall indiscriminately. \n\n\n\n \n\n\n\nHSE Social Inclusion
URL:https://healthyworkplace.ie/ga/event/international-overdose-awareness-day-2/
END:VEVENT
BEGIN:VEVENT
DTSTART;TZID=Europe/Dublin:20250819T080000
DTEND;TZID=Europe/Dublin:20250819T170000
DTSTAMP:20260420T200255
CREATED:20250625T150604Z
LAST-MODIFIED:20250625T150605Z
UID:4456-1755590400-1755622800@healthyworkplace.ie
SUMMARY:World Humanitarian Day
DESCRIPTION:On 19 August 2003\, a bomb attack on the Canal Hotel in Baghdad\, Iraq\, killed 22 humanitarian aid workers\, including the UN Special Representative of the Secretary-General for Iraq\, Sergio Vieira de Mello. Five years later\, the United Nations General Assembly adopted a resolution designating 19 August as World Humanitarian Day (WHD). \n\n\n\nEach year\, WHD focuses on a theme\, bringing together partners from across the humanitarian system to advocate for the survival\, well-being and dignity of people affected by crises\, and for the safety and security of aid workers. \n\n\n\nWHD is a campaign by the United Nations Office for the Coordination of Humanitarian Affairs (OCHA).
URL:https://healthyworkplace.ie/ga/event/world-humanitarian-day/
END:VEVENT
BEGIN:VEVENT
DTSTART;TZID=Europe/Dublin:20250818T080000
DTEND;TZID=Europe/Dublin:20250824T170000
DTSTAMP:20260420T200255
CREATED:20250625T150410Z
LAST-MODIFIED:20250625T150411Z
UID:4454-1755504000-1756054800@healthyworkplace.ie
SUMMARY:Nursing Homes Week
DESCRIPTION:
URL:https://healthyworkplace.ie/ga/event/nursing-homes-week/
END:VEVENT
BEGIN:VEVENT
DTSTART;TZID=Europe/Dublin:20250812T000000
DTEND;TZID=Europe/Dublin:20250812T235959
DTSTAMP:20260420T200255
CREATED:20250521T145338Z
LAST-MODIFIED:20250521T145340Z
UID:4364-1754956800-1755043199@healthyworkplace.ie
SUMMARY:International Youth Day
DESCRIPTION:Young people are leading the charge in digital adoption and innovation\, with three-quarters of those aged 15 to 24 using the internet in 2022\, a rate higher than other age groups. However\, disparities persist\, particularly in low-income countries and among young women\, who often have less access to the internet and digital skills compared to their male counterparts. While there is an urgent need to enhance digital inclusion\, youth are largely recognized as “digital natives\,” using technology to drive change and create solutions. As the 2030 deadline for the SDGs approaches\, the role of young people in digital innovation is essential for addressing global issues. \n\n\n\nBy celebrating the digital contributions of youth\, we can inspire further innovation and collaboration towards achieving sustainable development. 
URL:https://healthyworkplace.ie/ga/event/international-youth-day-2/
END:VEVENT
BEGIN:VEVENT
DTSTART;TZID=Europe/Dublin:20250801T080000
DTEND;TZID=Europe/Dublin:20250807T170000
DTSTAMP:20260420T200255
CREATED:20250625T150229Z
LAST-MODIFIED:20250625T150230Z
UID:4452-1754035200-1754586000@healthyworkplace.ie
SUMMARY:World Breastfeeding Week
DESCRIPTION:WBW is celebrated every 1-7 August in commemoration of the 1990 Innocenti Declaration. WBW started in 1992\, with annual themes including healthcare systems\, women and work\, the International Code of Marketing of Breastmilk Substitutes\, community support\, ecology\, economy\, science\, education and human rights. Since 2016\, WBW is aligned with the Sustainable Development Goals (SDGs). In 2018\, a World Health Assembly resolution endorsed WBW as an important breastfeeding promotion strategy. \n\n\n\nHSE Breastfeeding Support
URL:https://healthyworkplace.ie/ga/event/world-breastfeeding-week-2/
END:VEVENT
BEGIN:VEVENT
DTSTART;TZID=Europe/Dublin:20250730T080000
DTEND;TZID=Europe/Dublin:20250730T170000
DTSTAMP:20260420T200255
CREATED:20250625T145817Z
LAST-MODIFIED:20250625T145828Z
UID:4449-1753862400-1753894800@healthyworkplace.ie
SUMMARY:International Day of Friendship
DESCRIPTION:Sharing the human spirit through friendship \n\n\n\nOur world faces many challenges\, crises and forces of division — such as poverty\, violence\, and human rights abuses — among many others — that undermine peace\, security\, development and social harmony among the world’s peoples. \n\n\n\nTo confront those crises and challenges\, their root causes must be addressed by promoting and defending a shared spirit of human solidarity that takes many forms — the simplest of which is friendship. \n\n\n\nThrough friendship — by accumulating bonds of camaraderie and developing strong ties of trust — we can contribute to the fundamental shifts that are urgently needed to achieve lasting stability\, weave a safety net that will protect us all\, and generate passion for a better world where all are united for the greater good.
URL:https://healthyworkplace.ie/ga/event/international-day-of-frienship/
END:VEVENT
BEGIN:VEVENT
DTSTART;TZID=Europe/Dublin:20250727T080000
DTEND;TZID=Europe/Dublin:20250727T170000
DTSTAMP:20260420T200255
CREATED:20250625T145019Z
LAST-MODIFIED:20250625T145020Z
UID:4445-1753603200-1753635600@healthyworkplace.ie
SUMMARY:World Head & Neck Cancer Day
DESCRIPTION:
URL:https://healthyworkplace.ie/ga/event/world-head-neck-cancer-day/
END:VEVENT
BEGIN:VEVENT
DTSTART;TZID=Europe/Dublin:20250723T120000
DTEND;TZID=Europe/Dublin:20250723T131500
DTSTAMP:20260420T200255
CREATED:20250721T104533Z
LAST-MODIFIED:20250721T104534Z
UID:4655-1753272000-1753276500@healthyworkplace.ie
SUMMARY:SunSmart for Outdoor Workers
DESCRIPTION:The HSE National Cancer Control Programme is hosting a webinar ‘SunSmart for Outdoor Workers’ on Wednesday 23rd of July 2025 from 12pm to 1.15pm.  \n\n\n\nThe webinar aims to highlight the importance of UV protection in the workplace for outdoor worker organisations. Register for the SunSmart for Outdoor Workers Webinar 2025 here:https://zoom.us/webinar/register/WN_sa5exuclS3i9wOJUZFOrsQ#/registration
URL:https://healthyworkplace.ie/ga/event/sunsmart-for-outdoor-workers-2/
ATTACH;FMTTYPE=image/png:https://healthyworkplace.ie/wp-content/uploads/2025/07/image001-1.png
END:VEVENT
BEGIN:VEVENT
DTSTART;TZID=Europe/Dublin:20250711T080000
DTEND;TZID=Europe/Dublin:20250711T170000
DTSTAMP:20260420T200255
CREATED:20250711T091635Z
LAST-MODIFIED:20250711T091636Z
UID:4633-1752220800-1752253200@healthyworkplace.ie
SUMMARY:International Human Rights Day
DESCRIPTION:Human Rights Day is observed annually around the world on 10 December. It commemorates the anniversary of one of the world’s most groundbreaking global pledges: the Universal Declaration of Human Rights (UDHR). This landmark document enshrines the inalienable rights that everyone is entitled to as a human being – regardless of race\, colour\, religion\, sex\, language\, political or other opinion\, national or social origin\, property\, birth or other status. \n\n\n\nThe Declaration was proclaimed by the United Nations General Assembly in Paris on 10 December 1948 and sets out\, for the first time\, fundamental human rights to be universally protected.   \n\n\n\nAs a “common standard of achievement for all peoples and all nations”\, the UDHR is a global blueprint for international\, national\, and local laws and policies and a bedrock of the 2030 Agenda for sustainable development. \n\n\n\nIt is available in 577 languages\, from Abkhaz to Zulu\, making the UDHR the most translated document in the world.
URL:https://healthyworkplace.ie/ga/event/international-human-rights-day/
END:VEVENT
BEGIN:VEVENT
DTSTART;TZID=Europe/Dublin:20250711T000000
DTEND;TZID=Europe/Dublin:20250711T235959
DTSTAMP:20260420T200255
CREATED:20250509T135311Z
LAST-MODIFIED:20250509T135312Z
UID:4339-1752192000-1752278399@healthyworkplace.ie
SUMMARY:UN World Population Day
DESCRIPTION:To Leave No One Behind\, Count Everyone \n\n\n\nOver the past three decades\, societies around the world have made remarkable progress in improving population data gathering\, analysis\, and use. New population figures\, disaggregated by age\, ethnicity\, gender\, and other factors\, now reflect the diversity of our societies more accurately. \n\n\n\nThese advancements have significantly enhanced the delivery of health care globally\, leading to substantial improvements in sexual and reproductive health and the ability to exercise rights and choices. Increasingly\, new technologies are enabling more detailed and timely measurement of people’s experiences than ever before. \n\n\n\nHowever\, the most marginalized communities remain underrepresented in data\, profoundly affecting their lives and well-being. \n\n\n\nWorld Population Day 2024 is a moment to ask who is still going uncounted and why – and what this costs individuals\, societies\, and our global efforts to leave no one behind. It is also a moment for all of us to commit to doing more to ensure that our data systems capture the full range of human diversity so that everyone is seen\, can exercise their human rights and can reach their full potential.  \n\n\n\nTo realize the rights and choices of those on the margins of our societies\, we must count them – because everyone counts. Our rich human tapestry is only as strong as its weakest thread. When data and other systems work for those on the margins\, they work for everyone. This is how we accelerate progress for all.
URL:https://healthyworkplace.ie/ga/event/un-world-population-day/
END:VEVENT
BEGIN:VEVENT
DTSTART;TZID=Europe/Dublin:20250710T080000
DTEND;TZID=Europe/Dublin:20250710T170000
DTSTAMP:20260420T200255
CREATED:20250710T105837Z
LAST-MODIFIED:20250710T105838Z
UID:4535-1752134400-1752166800@healthyworkplace.ie
SUMMARY:International Recovery Day
DESCRIPTION:Welcome to International Recovery Day  \n\n\n\nUntil now\, recovery communities have been limited to uniting and celebrating recovery by holding local rallies\, walks\, and other events. Through the use of the Internet we can now bridge the geographical and time zone barriers\, allowing us to join all folks in recovery from all addictions\, including all recovery pathways – all around the globe – all on the same day. We invite you to join our International Recovery Day community worldwide by registering on this site today. We will then send you a token by email that will allow you to launch your own virtual firework this September 30th. Later on\, we will send you a reminder to go online September 30th and watch for yourself as you launch your firework into the sky – to be joined by countless others in recovery launching their own fireworks from all around the globe.
URL:https://healthyworkplace.ie/ga/event/international-recovery-day/
END:VEVENT
BEGIN:VEVENT
DTSTART;TZID=Europe/Dublin:20250701T080000
DTEND;TZID=Europe/Dublin:20250731T170000
DTSTAMP:20260420T200255
CREATED:20250625T144913Z
LAST-MODIFIED:20250625T144914Z
UID:4443-1751356800-1753981200@healthyworkplace.ie
SUMMARY:Sarcoma Awareness Month
DESCRIPTION:
URL:https://healthyworkplace.ie/ga/event/sarcoma-awareness-month-2/
END:VEVENT
BEGIN:VEVENT
DTSTART;TZID=Europe/Dublin:20250625T080000
DTEND;TZID=Europe/Dublin:20250728T170000
DTSTAMP:20260420T200255
CREATED:20250625T145436Z
LAST-MODIFIED:20250625T145437Z
UID:4447-1750838400-1753722000@healthyworkplace.ie
SUMMARY:World Hepatitis Day
DESCRIPTION:World Hepatitis Day\, 28 July\, is an opportunity to step up national and international efforts on hepatitis\, encourage actions and engagement by individuals\, partners and the public and highlight the need for a greater global response as outlined in the WHO’s Global hepatitis report of 2017. \n\n\n\nThe date of 28 July was chosen because it is the birthday of Nobel-prize winning scientist Dr Baruch Blumberg\, who discovered hepatitis B virus (HBV) and developed a diagnostic test and vaccine for the virus. Low coverage of testing and treatment is the most important gap to be addressed in order to achieve the global elimination goals by 2030.
URL:https://healthyworkplace.ie/ga/event/world-hepatitis-day-2/
END:VEVENT
BEGIN:VEVENT
DTSTART;TZID=Europe/Dublin:20250625T080000
DTEND;TZID=Europe/Dublin:20250626T170000
DTSTAMP:20260420T200255
CREATED:20250625T144756Z
LAST-MODIFIED:20250625T144757Z
UID:4441-1750838400-1750957200@healthyworkplace.ie
SUMMARY:International Day Against Drug Abuse and Illicit Trafficking
DESCRIPTION:By resolution 42/112 of 7 December 1987\, the General Assembly decided to observe 26 June as the International Day against Drug Abuse and Illicit Trafficking as an expression of its determination to strengthen action and cooperation to achieve the goal of an international society free of drug abuse. \n\n\n\nSupported each year by individuals\, communities\, and various organizations all over the world\, this global observance aims to raise awareness of the major problem that illicit drugs represent to society.
URL:https://healthyworkplace.ie/ga/event/international-day-against-drug-abuse-and-illicit-trafficking/
END:VEVENT
BEGIN:VEVENT
DTSTART;TZID=Europe/Dublin:20250614T000000
DTEND;TZID=Europe/Dublin:20250614T235959
DTSTAMP:20260420T200255
CREATED:20250501T130607Z
LAST-MODIFIED:20250501T130608Z
UID:4303-1749859200-1749945599@healthyworkplace.ie
SUMMARY:World Blood Donor Day
DESCRIPTION:World Blood Donor Day 2025 – June 14th!\n\n\n\nEvery year on the 14th of June we celebrate World Blood Donor Day and thank our donors for giving blood\, platelets and bone marrow to help save lives.  \n\n\n\nWe take this opportunity to thank and recognize the incredible voluntary blood donors who have contributed to the health and well-being of people in need around the country. \n\n\n\n\n\n\n\nHow you can support World Blood Donor Day \n\n\n\nGive Blood \n\n\n\nIf you are eligible to donate blood\, please give an hour of your time to this life-saving act. The actual blood donation only takes a few minutes and once you are finished you can enjoy some refreshments knowing you have helped someone in need. \n\n\n\nGive Platelets  \n\n\n\nWe always need new platelet donors in our Cork and Dublin centres. Check your eligibility and help fight cancer!  \n\n\n\nSpread the Word \n\n\n\nIf you can’t donate blood or don’t have the time\, you can really make an impact by spreading the word about the importance of giving blood. Encourage your friends\, family and colleagues to give blood. Many people are not aware of how easy the process is and so spreading the word in your local community really helps.
URL:https://healthyworkplace.ie/ga/event/world-blood-donor-day-2/
END:VEVENT
END:VCALENDAR